BEGIN:VCALENDAR
VERSION:2.0
PRODID:-//hacksw/handcal//NONSGML v1.0//EN
BEGIN:VEVENT
SUMMARY:FC TOURNON TAIN RUGBY - RCR F
UID:0f01b86d-c69d-4c16-ab34-36292bd96158
DTSTART:20250412T120000Z
DTEND:20250412T220000Z
LOCATION:Localisation STADE LEON SAUSSET 07300 TOURNON SUR RHONE
CATEGORIES:Sportif
STATUS:
URL;VALUE=URI:https://sports-saint-rambert.sportsregions.fr/evenements/2025/04/12/fc-tournon-tain-rugby-rcr-f-2440756
END:VEVENT
END:VCALENDAR
