BEGIN:VCALENDAR
VERSION:2.0
PRODID:-//hacksw/handcal//NONSGML v1.0//EN
BEGIN:VEVENT
SUMMARY:FC RAMBERTOIS 1 - AS DOLON
UID:6f6e10c8-cf3a-4707-97c4-51a683d5099a
DTSTART:20260308T140000Z
DTEND:20260308T230000Z
LOCATION:Localisation NOUVEAU STADE MUNICIPAL RUE DU RHONE 26140 ST RAMBERT D ALBON
CATEGORIES:Sportif
STATUS:
URL;VALUE=URI:https://sports-saint-rambert.sportsregions.fr/evenements/2026/03/08/fc-rambertois-1-as-dolon-2422381
END:VEVENT
END:VCALENDAR
