BEGIN:VCALENDAR
VERSION:2.0
PRODID:-//hacksw/handcal//NONSGML v1.0//EN
BEGIN:VEVENT
SUMMARY:FC TOURNON TAIN RUGBY - RCR F
UID:604fde4c-9210-4e43-8e0a-8844383b582d
DTSTART:20260412T120000Z
DTEND:20260412T220000Z
LOCATION:Localisation STADE LEON SAUSSET 07300 TOURNON SUR RHONE
CATEGORIES:Sportif
STATUS:
URL;VALUE=URI:https://sports-saint-rambert.sportsregions.fr/evenements/2026/04/12/fc-tournon-tain-rugby-rcr-f-2440760
END:VEVENT
END:VCALENDAR
