BEGIN:VCALENDAR
VERSION:2.0
PRODID:-//hacksw/handcal//NONSGML v1.0//EN
BEGIN:VEVENT
SUMMARY:FC RAMBERTOIS 2 - SAINT JULIEN MOLIN MOLETTE
UID:e47eea9f-3ada-497e-b43e-2f92896bf9b6
DTSTART:20260419T130000Z
DTEND:20260419T220000Z
LOCATION:Localisation NOUVEAU STADE MUNICIPAL RUE DU RHONE 26140 ST RAMBERT D ALBON
CATEGORIES:Sportif
STATUS:
URL;VALUE=URI:https://sports-saint-rambert.sportsregions.fr/evenements/2026/04/19/fc-rambertois-2-saint-julien-molin-molette-2422573
END:VEVENT
END:VCALENDAR
