BEGIN:VCALENDAR
VERSION:2.0
PRODID:-//hacksw/handcal//NONSGML v1.0//EN
BEGIN:VEVENT
SUMMARY:RC MAURILLAC - RCR F
UID:641ce315-df7c-4a98-921b-1449fe790c16
DTSTART:20260419T120000Z
DTEND:20260419T220000Z
LOCATION:Localisation STADE DE RUGBY DES BORDS DU RHONE 26140 ST RAMBERT D ALBON
CATEGORIES:Sportif
STATUS:
URL;VALUE=URI:https://sports-saint-rambert.sportsregions.fr/evenements/2026/04/19/rc-maurillac-rcr-f-2322167
END:VEVENT
END:VCALENDAR
