BEGIN:VCALENDAR
VERSION:2.0
PRODID:-//hacksw/handcal//NONSGML v1.0//EN
BEGIN:VEVENT
SUMMARY:FAR HANDBALL M2 - HANDBALL PAYS DE SAINT MARCELLIN
UID:baf22dd2-3901-4a58-8632-66417f5e0d4a
DTSTART:20260425T170000Z
DTEND:20260425T220000Z
LOCATION:Localisation SALLE OMNISPORTS 26140 ST RAMBERT D ALBON
CATEGORIES:Sportif
STATUS:
URL;VALUE=URI:https://sports-saint-rambert.sportsregions.fr/evenements/2026/04/25/far-handball-m2-handball-pays-de-saint-marcellin-2437179
END:VEVENT
END:VCALENDAR
