BEGIN:VCALENDAR
VERSION:2.0
PRODID:-//hacksw/handcal//NONSGML v1.0//EN
BEGIN:VEVENT
SUMMARY:LES "CHOURDES" - US BEAUREPAIRE
UID:ce311491-0334-49bd-8914-145f5d911ab4
DTSTART:20260425T150000Z
DTEND:20260425T220000Z
LOCATION:Localisation SALLE OMNISPORTS 26140 ST RAMBERT D ALBON
CATEGORIES:Sportif
STATUS:
URL;VALUE=URI:https://sports-saint-rambert.sportsregions.fr/evenements/2026/04/25/les-chourdes-us-beaurepaire-2437176
END:VEVENT
END:VCALENDAR
