BEGIN:VCALENDAR
VERSION:2.0
PRODID:-//hacksw/handcal//NONSGML v1.0//EN
BEGIN:VEVENT
SUMMARY:RCR - SO PONT DE CHERUY
UID:087ed865-2630-472d-ae79-1582bf0bd8db
DTSTART:20260426T113000Z
DTEND:20260426T220000Z
LOCATION:Localisation   
CATEGORIES:Sportif
STATUS:
URL;VALUE=URI:https://sports-saint-rambert.sportsregions.fr/evenements/2026/04/26/rcr-so-pont-de-cheruy-2435344
END:VEVENT
END:VCALENDAR
