BEGIN:VCALENDAR
VERSION:2.0
PRODID:-//hacksw/handcal//NONSGML v1.0//EN
BEGIN:VEVENT
SUMMARY:RCR - US LA RAVOIRE
UID:49ceb2f0-0835-450c-b6d8-a9c63016cbeb
DTSTART:20260517T113000Z
DTEND:20260517T220000Z
LOCATION:Localisation STADE RCR 26140 ST RAMBERT D ALBON
CATEGORIES:Sportif
STATUS:
URL;VALUE=URI:https://sports-saint-rambert.sportsregions.fr/evenements/2026/05/17/rcr-us-la-ravoire-2435353
END:VEVENT
END:VCALENDAR
